BEGIN:VCALENDAR
VERSION:2.0
METHOD:PUBLISH
CALSCALE:GREGORIAN
PRODID:-//Refresh Web Development//Helios Calendar//EN
X-FROM-URL:https://www.bayareascience.org/calendar/index.php?com=details&eID=31487
X-WR-RELCALID:BayAreaScience.org Water Management in The Era of Climate Change: California and Michigan Experience - Livestream 20211120T090000
X-WR-TIMEZONE:America/New_York
X-WR-CALNAME:BayAreaScience.org
BEGIN:VEVENT
URL;VALUE=URI:https://www.bayareascience.org/calendar/index.php?com=detail&eID=31487
DTSTART:20211120T090000
DTEND:20211120T100000
SUMMARY:Water Management in The Era of Climate Change: California and Michigan Experience - Livestream
DESCRIPTION:It is recommended that participants prepare for this event by reading The Story of More: How We Got to Climate Change and Where to Go from Here - by Hope Jahren. The panel event...\n______________________________\nThis Event Downloaded From a Helios Calendar Powered Site
LOCATION:California Section American Chemical Society -  \, \, CA  
CATEGORIES:BayAreaScience.org Events
PRIORITY:0
TRANSP:TRANSPARENT
END:VEVENT
END:VCALENDAR