BEGIN:VCALENDAR
VERSION:2.0
METHOD:PUBLISH
CALSCALE:GREGORIAN
PRODID:-//Refresh Web Development//Helios Calendar//EN
X-FROM-URL:https://www.bayareascience.org/calendar/index.php?com=details&eID=31488
X-WR-RELCALID:BayAreaScience.org Developing Academic Software (CCPNmr) for the Analysis of Biomolecular NMR Data - Livestream 20211129T120000
X-WR-TIMEZONE:America/New_York
X-WR-CALNAME:BayAreaScience.org
BEGIN:VEVENT
URL;VALUE=URI:https://www.bayareascience.org/calendar/index.php?com=detail&eID=31488
DTSTART:20211129T120000
DTEND:20211129T130000
SUMMARY:Developing Academic Software (CCPNmr) for the Analysis of Biomolecular NMR Data - Livestream
DESCRIPTION:Nuclear magnetic...\n______________________________\nThis Event Downloaded From a Helios Calendar Powered Site
LOCATION:California Section American Chemical Society -  \, \, CA  
CATEGORIES:BayAreaScience.org Events
PRIORITY:0
TRANSP:TRANSPARENT
END:VEVENT
END:VCALENDAR