BEGIN:VCALENDAR
VERSION:2.0
METHOD:PUBLISH
CALSCALE:GREGORIAN
PRODID:-//Refresh Web Development//Helios Calendar//EN
X-FROM-URL:https://www.bayareascience.org/calendar/index.php?com=details&eID=31494
X-WR-RELCALID:BayAreaScience.org What must change for things not to stay the same? - Livestream 20211115T161500
X-WR-TIMEZONE:America/New_York
X-WR-CALNAME:BayAreaScience.org
BEGIN:VEVENT
URL;VALUE=URI:https://www.bayareascience.org/calendar/index.php?com=detail&eID=31494
DTSTART:20211115T161500
DTEND:20211115T161500
SUMMARY:What must change for things not to stay the same? - Livestream
DESCRIPTION:Have you ever felt thatÂ  the more things change\, the more they stay the same in relation to diversifying the scientific community? Indeed\,Â over the past fifty years\, while theÂ demographics...\n______________________________\nThis Event Downloaded From a Helios Calendar Powered Site
LOCATION:UC Berkeley -  \, \, CA  
CATEGORIES:BayAreaScience.org Events
PRIORITY:0
TRANSP:TRANSPARENT
END:VEVENT
END:VCALENDAR