BEGIN:VCALENDAR
VERSION:2.0
METHOD:PUBLISH
CALSCALE:GREGORIAN
PRODID:-//Refresh Web Development//Helios Calendar//EN
X-FROM-URL:https://www.bayareascience.org/calendar/index.php?com=details&eID=31496
X-WR-RELCALID:BayAreaScience.org Saturday Cinema: Trip the Light Fantastic 20211120T130000
X-WR-TIMEZONE:America/New_York
X-WR-CALNAME:BayAreaScience.org
BEGIN:VEVENT
URL;VALUE=URI:https://www.bayareascience.org/calendar/index.php?com=detail&eID=31496
DTSTART:20211120T130000
DTEND:20211120T170000
SUMMARY:Saturday Cinema: Trip the Light Fantastic
DESCRIPTION:In celebration of the opening of Glow: Discover the Art of Light\, we put a spotlight on short\, kinetic films that dance! These exuberant films express joyful movement in luminous and colorful...\n______________________________\nThis Event Downloaded From a Helios Calendar Powered Site
LOCATION:ExplOratorium - Pier 15 (Embarcadero at Green Street)  \, San Francisco\, CA USA 94111
CATEGORIES:BayAreaScience.org Events
PRIORITY:0
TRANSP:TRANSPARENT
END:VEVENT
END:VCALENDAR