BEGIN:VCALENDAR
VERSION:2.0
METHOD:PUBLISH
CALSCALE:GREGORIAN
PRODID:-//Refresh Web Development//Helios Calendar//EN
X-FROM-URL:https://www.bayareascience.org/calendar/index.php?com=details&eID=31497
X-WR-RELCALID:BayAreaScience.org Science on Tap:  Hunting for new minor planets 20211117T190000
X-WR-TIMEZONE:America/New_York
X-WR-CALNAME:BayAreaScience.org
BEGIN:VEVENT
URL;VALUE=URI:https://www.bayareascience.org/calendar/index.php?com=detail&eID=31497
DTSTART:20211117T190000
DTEND:20211117T190000
SUMMARY:Science on Tap:  Hunting for new minor planets
DESCRIPTION:Why study asteroids? The scientific interest in asteroids is due largely to their status as the remnant debris from the inner solar system formation process. The probability of an asteroid striking...\n______________________________\nThis Event Downloaded From a Helios Calendar Powered Site
LOCATION:Museum of Art and History - 705 Front St Back Patio\, Santa Cruz\, CA  95060
CATEGORIES:BayAreaScience.org Events
PRIORITY:0
TRANSP:TRANSPARENT
END:VEVENT
END:VCALENDAR