BEGIN:VCALENDAR
VERSION:2.0
METHOD:PUBLISH
CALSCALE:GREGORIAN
PRODID:-//Refresh Web Development//Helios Calendar//EN
X-FROM-URL:https://www.bayareascience.org/calendar/index.php?com=details&eID=31499
X-WR-RELCALID:BayAreaScience.org Virtual Telescope Viewing 20220120T210000
X-WR-TIMEZONE:America/New_York
X-WR-CALNAME:BayAreaScience.org
BEGIN:VEVENT
URL;VALUE=URI:https://www.bayareascience.org/calendar/index.php?com=detail&eID=31499
DTSTART:20220120T210000
DTEND:20220120T223000
SUMMARY:Virtual Telescope Viewing
DESCRIPTION:Join our resident astronomers on Facebook Live and YouTube live from Chabotâ€™s Observation deck!Each week\, our astronomers will guide us through spectacular night sky viewing through...\n______________________________\nThis Event Downloaded From a Helios Calendar Powered Site
LOCATION:Chabot Space and Science Center -  \, \, CA  
CATEGORIES:BayAreaScience.org Events
PRIORITY:0
TRANSP:TRANSPARENT
END:VEVENT
END:VCALENDAR