BEGIN:VCALENDAR
VERSION:2.0
METHOD:PUBLISH
CALSCALE:GREGORIAN
PRODID:-//Refresh Web Development//Helios Calendar//EN
X-FROM-URL:https://www.bayareascience.org/calendar/index.php?com=details&eID=31509
X-WR-RELCALID:BayAreaScience.org Electrically charged skyrmions and superconductivity - Livestream 20211122T161500
X-WR-TIMEZONE:America/New_York
X-WR-CALNAME:BayAreaScience.org
BEGIN:VEVENT
URL;VALUE=URI:https://www.bayareascience.org/calendar/index.php?com=detail&eID=31509
DTSTART:20211122T161500
DTEND:20211122T161500
SUMMARY:Electrically charged skyrmions and superconductivity - Livestream
DESCRIPTION:Skyrmions\, first proposed in the context of nuclear physics\, elegantly realize Kelvinâ€™s dream of understanding particles as topological defects in an underlying field.Â When skyrmions...\n______________________________\nThis Event Downloaded From a Helios Calendar Powered Site
LOCATION:Stanford University -  \, \, CA  
CATEGORIES:BayAreaScience.org Events
PRIORITY:0
TRANSP:TRANSPARENT
END:VEVENT
END:VCALENDAR