BEGIN:VCALENDAR
VERSION:2.0
METHOD:PUBLISH
CALSCALE:GREGORIAN
PRODID:-//Refresh Web Development//Helios Calendar//EN
X-FROM-URL:https://www.bayareascience.org/calendar/index.php?com=details&eID=31510
X-WR-RELCALID:BayAreaScience.org Imaging quantum materials with scanning SQUID microscopy  - Livestream 20211122T100000
X-WR-TIMEZONE:America/New_York
X-WR-CALNAME:BayAreaScience.org
BEGIN:VEVENT
URL;VALUE=URI:https://www.bayareascience.org/calendar/index.php?com=detail&eID=31510
DTSTART:20211122T100000
DTEND:20211122T100000
SUMMARY:Imaging quantum materials with scanning SQUID microscopy  - Livestream
DESCRIPTION:Novel quantum phenomena are often driven by cooperation or competition between different electronic properties with similar energies. Probing coexisting or competing electronic orders requires...\n______________________________\nThis Event Downloaded From a Helios Calendar Powered Site
LOCATION:Stanford University -  \, \, CA  
CATEGORIES:BayAreaScience.org Events
PRIORITY:0
TRANSP:TRANSPARENT
END:VEVENT
END:VCALENDAR