BEGIN:VCALENDAR
VERSION:2.0
METHOD:PUBLISH
CALSCALE:GREGORIAN
PRODID:-//Refresh Web Development//Helios Calendar//EN
X-FROM-URL:https://www.bayareascience.org/calendar/index.php?com=details&eID=31512
X-WR-RELCALID:BayAreaScience.org Black holes in the Universe: where, what, and why? - Livestream 20211206T110000
X-WR-TIMEZONE:America/New_York
X-WR-CALNAME:BayAreaScience.org
BEGIN:VEVENT
URL;VALUE=URI:https://www.bayareascience.org/calendar/index.php?com=detail&eID=31512
DTSTART:20211206T110000
DTEND:20211206T120000
SUMMARY:Black holes in the Universe: where\, what\, and why? - Livestream
DESCRIPTION:In 2015\, a merging pair of black holes was directly detected for the first time. Since then\, the number of detections has grown substantially. This talk will describe the new catalogue of black...\n______________________________\nThis Event Downloaded From a Helios Calendar Powered Site
LOCATION:Royal Observatory\, Edinburgh -  \, \, CA  
CATEGORIES:BayAreaScience.org Events
PRIORITY:0
TRANSP:TRANSPARENT
END:VEVENT
END:VCALENDAR