BEGIN:VCALENDAR
VERSION:2.0
METHOD:PUBLISH
CALSCALE:GREGORIAN
PRODID:-//Refresh Web Development//Helios Calendar//EN
X-FROM-URL:https://www.bayareascience.org/calendar/index.php?com=details&eID=31513
X-WR-RELCALID:BayAreaScience.org Help the King Tides Project photograph the highest tides of the year! 20211204
X-WR-TIMEZONE:America/New_York
X-WR-CALNAME:BayAreaScience.org
BEGIN:VEVENT
URL;VALUE=URI:https://www.bayareascience.org/calendar/index.php?com=detail&eID=31513
DTSTART;VALUE=DATE:20211204
DTEND;VALUE=DATE:20211205
SUMMARY:Help the King Tides Project photograph the highest tides of the year!
DESCRIPTION:King Tides are winter's highest tides\, and they will arrive on December 4 and 5 and January 2 and 3. The California King Tides Project needs your help to photograph these high tides to visualize...\n______________________________\nThis Event Downloaded From a Helios Calendar Powered Site
LOCATION:The California Coast -  \, \, CA  
CATEGORIES:BayAreaScience.org Events
PRIORITY:0
TRANSP:TRANSPARENT
END:VEVENT
END:VCALENDAR