BEGIN:VCALENDAR
VERSION:2.0
METHOD:PUBLISH
CALSCALE:GREGORIAN
PRODID:-//Refresh Web Development//Helios Calendar//EN
X-FROM-URL:https://www.bayareascience.org/calendar/index.php?com=details&eID=31519
X-WR-RELCALID:BayAreaScience.org  Climate + Justice: Young Activists Speak Out - Livestream 20211201T093000
X-WR-TIMEZONE:America/New_York
X-WR-CALNAME:BayAreaScience.org
BEGIN:VEVENT
URL;VALUE=URI:https://www.bayareascience.org/calendar/index.php?com=detail&eID=31519
DTSTART:20211201T093000
DTEND:20211201T103000
SUMMARY: Climate + Justice: Young Activists Speak Out - Livestream
DESCRIPTION:As the devastating effects of climate change take hold around the world\, young people are demanding action from global leaders and\, increasingly\, taking action themselves. Ask a teenager or young...\n______________________________\nThis Event Downloaded From a Helios Calendar Powered Site
LOCATION:Commonwealth Club - Online Event -  \, \, CA  
CATEGORIES:BayAreaScience.org Events
PRIORITY:0
TRANSP:TRANSPARENT
END:VEVENT
END:VCALENDAR