BEGIN:VCALENDAR
VERSION:2.0
METHOD:PUBLISH
CALSCALE:GREGORIAN
PRODID:-//Refresh Web Development//Helios Calendar//EN
X-FROM-URL:https://www.bayareascience.org/calendar/index.php?com=details&eID=31520
X-WR-RELCALID:BayAreaScience.org Black Friday Hike at Rancho San Vicente 20211126T133000
X-WR-TIMEZONE:America/New_York
X-WR-CALNAME:BayAreaScience.org
BEGIN:VEVENT
URL;VALUE=URI:https://www.bayareascience.org/calendar/index.php?com=detail&eID=31520
DTSTART:20211126T133000
DTEND:20211126T163000
SUMMARY:Black Friday Hike at Rancho San Vicente
DESCRIPTION:Join Peninsula Open Space Trust for a beautiful hike at Rancho San Vicente where youâ€™ll explore the newest addition to Calero County Park\, a beautiful oak...\n______________________________\nThis Event Downloaded From a Helios Calendar Powered Site
LOCATION:Rancho San Vicente Open Space Preserve - 21151 McKean Rd \, San Jose\, CA  95120
CATEGORIES:BayAreaScience.org Events
PRIORITY:0
TRANSP:TRANSPARENT
END:VEVENT
END:VCALENDAR