BEGIN:VCALENDAR
VERSION:2.0
METHOD:PUBLISH
CALSCALE:GREGORIAN
PRODID:-//Refresh Web Development//Helios Calendar//EN
X-FROM-URL:https://www.bayareascience.org/calendar/index.php?com=details&eID=31521
X-WR-RELCALID:BayAreaScience.org Evolution, stranger than fiction: investigating how weird traits arise using behavioral, morphological and genetic approaches - Livestream 20211116T173000
X-WR-TIMEZONE:America/New_York
X-WR-CALNAME:BayAreaScience.org
BEGIN:VEVENT
URL;VALUE=URI:https://www.bayareascience.org/calendar/index.php?com=detail&eID=31521
DTSTART:20211116T173000
DTEND:20211116T183000
SUMMARY:Evolution\, stranger than fiction: investigating how weird traits arise using behavioral\, morphological and genetic approaches - Livestream
DESCRIPTION:\n______________________________\nThis Event Downloaded From a Helios Calendar Powered Site
LOCATION:Berkeley Public Library -  \, \, CA  
CATEGORIES:BayAreaScience.org Events
PRIORITY:0
TRANSP:TRANSPARENT
END:VEVENT
END:VCALENDAR