BEGIN:VCALENDAR
VERSION:2.0
METHOD:PUBLISH
CALSCALE:GREGORIAN
PRODID:-//Refresh Web Development//Helios Calendar//EN
X-FROM-URL:https://www.bayareascience.org/calendar/index.php?com=details&eID=31527
X-WR-RELCALID:BayAreaScience.org Lost Landscapes 02021 Earth, Fire, Air, Water: California Infrastructures 20211201T190000
X-WR-TIMEZONE:America/New_York
X-WR-CALNAME:BayAreaScience.org
BEGIN:VEVENT
URL;VALUE=URI:https://www.bayareascience.org/calendar/index.php?com=detail&eID=31527
DTSTART:20211201T190000
DTEND:20211201T190000
SUMMARY:Lost Landscapes 02021 Earth\, Fire\, Air\, Water: California Infrastructures
DESCRIPTION:This year LOST LANDSCAPES radiates out from San Francisco\, extending its archival gaze to the infrastructures\, people and landscapes of California north\, south\, east and west....\n______________________________\nThis Event Downloaded From a Helios Calendar Powered Site
LOCATION:Herbst Theater - 401 Van Ness Ave. \, San Francisco\, CA USA 94102
CATEGORIES:BayAreaScience.org Events
PRIORITY:0
TRANSP:TRANSPARENT
END:VEVENT
END:VCALENDAR