BEGIN:VCALENDAR
VERSION:2.0
METHOD:PUBLISH
CALSCALE:GREGORIAN
PRODID:-//Refresh Web Development//Helios Calendar//EN
X-FROM-URL:https://www.bayareascience.org/calendar/index.php?com=details&eID=31532
X-WR-RELCALID:BayAreaScience.org An Action Plan for Solving Our Climate Crisis Now  20211206T180000
X-WR-TIMEZONE:America/New_York
X-WR-CALNAME:BayAreaScience.org
BEGIN:VEVENT
URL;VALUE=URI:https://www.bayareascience.org/calendar/index.php?com=detail&eID=31532
DTSTART:20211206T180000
DTEND:20211206T190000
SUMMARY:An Action Plan for Solving Our Climate Crisis Now 
DESCRIPTION:Beyond his position as chairman of the venture capital firm Kleiner Perkins\, John Doerr rose to global prominence in the business world with his development of OKRs (objectives and key results)\,...\n______________________________\nThis Event Downloaded From a Helios Calendar Powered Site
LOCATION:Commonwealth Club - Online Event -  \, \, CA  
CATEGORIES:BayAreaScience.org Events
PRIORITY:0
TRANSP:TRANSPARENT
END:VEVENT
END:VCALENDAR