BEGIN:VCALENDAR
VERSION:2.0
METHOD:PUBLISH
CALSCALE:GREGORIAN
PRODID:-//Refresh Web Development//Helios Calendar//EN
X-FROM-URL:https://www.bayareascience.org/calendar/index.php?com=details&eID=31544
X-WR-RELCALID:BayAreaScience.org What lies beneath? Using sub-ice geologic archives to bridge the gap between modern ice-sheet processes and paleo reconstructions 20220215T153000
X-WR-TIMEZONE:America/New_York
X-WR-CALNAME:BayAreaScience.org
BEGIN:VEVENT
URL;VALUE=URI:https://www.bayareascience.org/calendar/index.php?com=detail&eID=31544
DTSTART:20220215T153000
DTEND:20220215T153000
SUMMARY:What lies beneath? Using sub-ice geologic archives to bridge the gap between modern ice-sheet processes and paleo reconstructions
DESCRIPTION:Speaker: Ryan Venturelli\, Tulane University\n______________________________\nThis Event Downloaded From a Helios Calendar Powered Site
LOCATION:Natural Science Annex - UC Santa Cruz Room 101\, Santa Cruz\, CA  95064
CATEGORIES:BayAreaScience.org Events
PRIORITY:0
TRANSP:TRANSPARENT
END:VEVENT
END:VCALENDAR