BEGIN:VCALENDAR
VERSION:2.0
METHOD:PUBLISH
CALSCALE:GREGORIAN
PRODID:-//Refresh Web Development//Helios Calendar//EN
X-FROM-URL:https://www.bayareascience.org/calendar/index.php?com=details&eID=31546
X-WR-RELCALID:BayAreaScience.org The role of dust on Earth's climate: insights from the paleoclimate record & modern ecosystems 20220301T153000
X-WR-TIMEZONE:America/New_York
X-WR-CALNAME:BayAreaScience.org
BEGIN:VEVENT
URL;VALUE=URI:https://www.bayareascience.org/calendar/index.php?com=detail&eID=31546
DTSTART:20220301T153000
DTEND:20220301T153000
SUMMARY:The role of dust on Earth's climate: insights from the paleoclimate record & modern ecosystems
DESCRIPTION:Speaker: Sarah Aarons\, UC San Diego\n______________________________\nThis Event Downloaded From a Helios Calendar Powered Site
LOCATION:Natural Science Annex - UC Santa Cruz Room 101\, Santa Cruz\, CA  95064
CATEGORIES:BayAreaScience.org Events
PRIORITY:0
TRANSP:TRANSPARENT
END:VEVENT
END:VCALENDAR