BEGIN:VCALENDAR
VERSION:2.0
METHOD:PUBLISH
CALSCALE:GREGORIAN
PRODID:-//Refresh Web Development//Helios Calendar//EN
X-FROM-URL:https://www.bayareascience.org/calendar/index.php?com=details&eID=31550
X-WR-RELCALID:BayAreaScience.org Midday Science Cafe - Into the Blue Again: Water flowing underground - Livestream 20220217T120000
X-WR-TIMEZONE:America/New_York
X-WR-CALNAME:BayAreaScience.org
BEGIN:VEVENT
URL;VALUE=URI:https://www.bayareascience.org/calendar/index.php?com=detail&eID=31550
DTSTART:20220217T120000
DTEND:20220217T133000
SUMMARY:Midday Science Cafe - Into the Blue Again: Water flowing underground - Livestream
DESCRIPTION:Join us for our first Midday Science Cafe of 2022 as we take a look at Earthâ€™s most valuable resource\, water\, stored beneath the Earthâ€™s surface. First\, weâ€™ll hear from Dr....\n______________________________\nThis Event Downloaded From a Helios Calendar Powered Site
LOCATION:UC Berkeley -  \, \, CA  
CATEGORIES:BayAreaScience.org Events
PRIORITY:0
TRANSP:TRANSPARENT
END:VEVENT
END:VCALENDAR