BEGIN:VCALENDAR
VERSION:2.0
METHOD:PUBLISH
CALSCALE:GREGORIAN
PRODID:-//Refresh Web Development//Helios Calendar//EN
X-FROM-URL:https://www.bayareascience.org/calendar/index.php?com=details&eID=31554
X-WR-RELCALID:BayAreaScience.org Geminid Meteor Shower Watch Party - CANCELED 20211213T230000
X-WR-TIMEZONE:America/New_York
X-WR-CALNAME:BayAreaScience.org
BEGIN:VEVENT
URL;VALUE=URI:https://www.bayareascience.org/calendar/index.php?com=detail&eID=31554
DTSTART:20211213T230000
DTEND:20211214T030000
SUMMARY:Geminid Meteor Shower Watch Party - CANCELED
DESCRIPTION:Join us on our observation decks and be dazzled as we make our annual trip through the Geminids Meteor shower. The Geminids\, named for the radiant or location where the...\n______________________________\nThis Event Downloaded From a Helios Calendar Powered Site
LOCATION:Chabot Space and Science Center - 10000 Skyline Blvd \, Oakland\, CA USA 94619
CATEGORIES:BayAreaScience.org Events
PRIORITY:0
TRANSP:TRANSPARENT
END:VEVENT
END:VCALENDAR