BEGIN:VCALENDAR
VERSION:2.0
METHOD:PUBLISH
CALSCALE:GREGORIAN
PRODID:-//Refresh Web Development//Helios Calendar//EN
X-FROM-URL:https://www.bayareascience.org/calendar/index.php?com=details&eID=31555
X-WR-RELCALID:BayAreaScience.org Passing the Baton from Hubble to Webb, A James Webb Telescope Launch Party 20211218T100000
X-WR-TIMEZONE:America/New_York
X-WR-CALNAME:BayAreaScience.org
BEGIN:VEVENT
URL;VALUE=URI:https://www.bayareascience.org/calendar/index.php?com=detail&eID=31555
DTSTART:20211218T100000
DTEND:20211218T170000
SUMMARY:Passing the Baton from Hubble to Webb\, A James Webb Telescope Launch Party
DESCRIPTION:The largest space telescope ever made is scheduled to launch soon! This new instrument will unveil invisible mysteries of the universe never before captured...\n______________________________\nThis Event Downloaded From a Helios Calendar Powered Site
LOCATION:Chabot Space and Science Center - 10000 Skyline Blvd \, Oakland\, CA USA 94619
CATEGORIES:BayAreaScience.org Events
PRIORITY:0
TRANSP:TRANSPARENT
END:VEVENT
END:VCALENDAR