BEGIN:VCALENDAR
VERSION:2.0
METHOD:PUBLISH
CALSCALE:GREGORIAN
PRODID:-//Refresh Web Development//Helios Calendar//EN
X-FROM-URL:https://www.bayareascience.org/calendar/index.php?com=details&eID=31558
X-WR-RELCALID:BayAreaScience.org Science at Cal - The science of Meat and Dairy Alternatives - Livestream 20220317T120000
X-WR-TIMEZONE:America/New_York
X-WR-CALNAME:BayAreaScience.org
BEGIN:VEVENT
URL;VALUE=URI:https://www.bayareascience.org/calendar/index.php?com=detail&eID=31558
DTSTART:20220317T120000
DTEND:20220317T133000
SUMMARY:Science at Cal - The science of Meat and Dairy Alternatives - Livestream
DESCRIPTION:At this monthâ€™s Midday Science Cafe\, weâ€™ll learn about two new meat alternatives made from foods we already know and love: seaweed and mushrooms! First course: seaweed. Dr. Amanda...\n______________________________\nThis Event Downloaded From a Helios Calendar Powered Site
LOCATION:Science @ Cal -  \, \, CA  
CATEGORIES:BayAreaScience.org Events
PRIORITY:0
TRANSP:TRANSPARENT
END:VEVENT
END:VCALENDAR