BEGIN:VCALENDAR
VERSION:2.0
METHOD:PUBLISH
CALSCALE:GREGORIAN
PRODID:-//Refresh Web Development//Helios Calendar//EN
X-FROM-URL:https://www.bayareascience.org/calendar/index.php?com=details&eID=31561
X-WR-RELCALID:BayAreaScience.org Marine Mammals of the World: A Comprehensive Guide to Their Identification, 3rd Edition Preview - Livestream 20220222T190000
X-WR-TIMEZONE:America/New_York
X-WR-CALNAME:BayAreaScience.org
BEGIN:VEVENT
URL;VALUE=URI:https://www.bayareascience.org/calendar/index.php?com=detail&eID=31561
DTSTART:20220222T190000
DTEND:20220222T203000
SUMMARY:Marine Mammals of the World: A Comprehensive Guide to Their Identification\, 3rd Edition Preview - Livestream
DESCRIPTION:Marine Mammals of the World: A Comprehensive Guide to Their Identification by T. A. Jefferson\, M. A. Webber\, and R. L. Pitman\, with illustrations by Uko Gorter\, is a complete guide to all of the...\n______________________________\nThis Event Downloaded From a Helios Calendar Powered Site
LOCATION:American Cetacean Society -  \, \, CA  
CATEGORIES:BayAreaScience.org Events
PRIORITY:0
TRANSP:TRANSPARENT
END:VEVENT
END:VCALENDAR