BEGIN:VCALENDAR
VERSION:2.0
METHOD:PUBLISH
CALSCALE:GREGORIAN
PRODID:-//Refresh Web Development//Helios Calendar//EN
X-FROM-URL:https://www.bayareascience.org/calendar/index.php?com=details&eID=31566
X-WR-RELCALID:BayAreaScience.org Weekday Morning Walk at Pillar Point Bluff - FULL 20220113T100000
X-WR-TIMEZONE:America/New_York
X-WR-CALNAME:BayAreaScience.org
BEGIN:VEVENT
URL;VALUE=URI:https://www.bayareascience.org/calendar/index.php?com=detail&eID=31566
DTSTART:20220113T100000
DTEND:20220113T120000
SUMMARY:Weekday Morning Walk at Pillar Point Bluff - FULL
DESCRIPTION:Join Peninsula Open Space Trust for a morning walk at Pillar Point Bluff just north of Half Moon Bay! You will be guided by a POST representative who will share details about...\n______________________________\nThis Event Downloaded From a Helios Calendar Powered Site
LOCATION:Pillar Point Bluff - Airport St \, Moss Beach\, CA  94038
CATEGORIES:BayAreaScience.org Events
PRIORITY:0
TRANSP:TRANSPARENT
END:VEVENT
END:VCALENDAR