BEGIN:VCALENDAR
VERSION:2.0
METHOD:PUBLISH
CALSCALE:GREGORIAN
PRODID:-//Refresh Web Development//Helios Calendar//EN
X-FROM-URL:https://www.bayareascience.org/calendar/index.php?com=details&eID=31577
X-WR-RELCALID:BayAreaScience.org Species Here, Species There, and Species, Species Everywhere - Livestream 20220127T180000
X-WR-TIMEZONE:America/New_York
X-WR-CALNAME:BayAreaScience.org
BEGIN:VEVENT
URL;VALUE=URI:https://www.bayareascience.org/calendar/index.php?com=detail&eID=31577
DTSTART:20220127T180000
DTEND:20220127T193000
SUMMARY:Species Here\, Species There\, and Species\, Species Everywhere - Livestream
DESCRIPTION:Speaker: Thomas Edwards\, Utah Cooperative Fish and Wildlife Research Unit\, USGSSee weblink for connection information\n______________________________\nThis Event Downloaded From a Helios Calendar Powered Site
LOCATION:US Geological Survey Public Lecture Series -  \, \, CA  
CATEGORIES:BayAreaScience.org Events
PRIORITY:0
TRANSP:TRANSPARENT
END:VEVENT
END:VCALENDAR