BEGIN:VCALENDAR
VERSION:2.0
METHOD:PUBLISH
CALSCALE:GREGORIAN
PRODID:-//Refresh Web Development//Helios Calendar//EN
X-FROM-URL:https://www.bayareascience.org/calendar/index.php?com=details&eID=31605
X-WR-RELCALID:BayAreaScience.org 50th Anniversary Golden Jubilee Revival Fungus Fair - CANCELED 20220123T100000
X-WR-TIMEZONE:America/New_York
X-WR-CALNAME:BayAreaScience.org
BEGIN:VEVENT
URL;VALUE=URI:https://www.bayareascience.org/calendar/index.php?com=detail&eID=31605
DTSTART:20220123T100000
DTEND:20220123T170000
SUMMARY:50th Anniversary Golden Jubilee Revival Fungus Fair - CANCELED
DESCRIPTION:The public is invited to this family friendly event to celebrate the diversity and ecology of fungi found in every part of our environment\, from urban garden to mountain forest.Tickets go...\n______________________________\nThis Event Downloaded From a Helios Calendar Powered Site
LOCATION:Orinda Community Center - 28 Orinda Way \, Orinda\, CA  94563
CATEGORIES:BayAreaScience.org Events
PRIORITY:0
TRANSP:TRANSPARENT
END:VEVENT
END:VCALENDAR