BEGIN:VCALENDAR
VERSION:2.0
METHOD:PUBLISH
CALSCALE:GREGORIAN
PRODID:-//Refresh Web Development//Helios Calendar//EN
X-FROM-URL:https://www.bayareascience.org/calendar/index.php?com=details&eID=31614
X-WR-RELCALID:BayAreaScience.org Free Telescope Viewings 20220121T193000
X-WR-TIMEZONE:America/New_York
X-WR-CALNAME:BayAreaScience.org
BEGIN:VEVENT
URL;VALUE=URI:https://www.bayareascience.org/calendar/index.php?com=detail&eID=31614
DTSTART:20220121T193000
DTEND:20220121T220000
SUMMARY:Free Telescope Viewings
DESCRIPTION:Join Chabot astronomers on the Observatory Deck for a free telescope viewing! Weather permitting\, this is a chance to explore stars\, planets and more through Chabotâ€™s historic telescopes....\n______________________________\nThis Event Downloaded From a Helios Calendar Powered Site
LOCATION:Chabot Space and Science Center - 10000 Skyline Blvd \, Oakland\, CA USA 94619
CATEGORIES:BayAreaScience.org Events
PRIORITY:0
TRANSP:TRANSPARENT
END:VEVENT
END:VCALENDAR