BEGIN:VCALENDAR
VERSION:2.0
METHOD:PUBLISH
CALSCALE:GREGORIAN
PRODID:-//Refresh Web Development//Helios Calendar//EN
X-FROM-URL:https://www.bayareascience.org/calendar/index.php?com=details&eID=31618
X-WR-RELCALID:BayAreaScience.org The Fungus Among Us: Fusarium mycotoxins in water and food - Livestream 20220118T120000
X-WR-TIMEZONE:America/New_York
X-WR-CALNAME:BayAreaScience.org
BEGIN:VEVENT
URL;VALUE=URI:https://www.bayareascience.org/calendar/index.php?com=detail&eID=31618
DTSTART:20220118T120000
DTEND:20220118T130000
SUMMARY:The Fungus Among Us: Fusarium mycotoxins in water and food - Livestream
DESCRIPTION:Professor Daniel Snow investigates...\n______________________________\nThis Event Downloaded From a Helios Calendar Powered Site
LOCATION:California Section American Chemical Society -  \, \, CA  
CATEGORIES:BayAreaScience.org Events
PRIORITY:0
TRANSP:TRANSPARENT
END:VEVENT
END:VCALENDAR