BEGIN:VCALENDAR
VERSION:2.0
METHOD:PUBLISH
CALSCALE:GREGORIAN
PRODID:-//Refresh Web Development//Helios Calendar//EN
X-FROM-URL:https://www.bayareascience.org/calendar/index.php?com=details&eID=31620
X-WR-RELCALID:BayAreaScience.org  The Revolution Underway in United States Industrial Policy - Livestream 20220207T160000
X-WR-TIMEZONE:America/New_York
X-WR-CALNAME:BayAreaScience.org
BEGIN:VEVENT
URL;VALUE=URI:https://www.bayareascience.org/calendar/index.php?com=detail&eID=31620
DTSTART:20220207T160000
DTEND:20220207T165000
SUMMARY: The Revolution Underway in United States Industrial Policy - Livestream
DESCRIPTION:United States industrial policy is undergoing a revolutionary change\, with important implications for innovation.Â  The historic understanding of the purpose of federal industrial policy is to...\n______________________________\nThis Event Downloaded From a Helios Calendar Powered Site
LOCATION:Stanford Energy Seminar -  \, \, CA  
CATEGORIES:BayAreaScience.org Events
PRIORITY:0
TRANSP:TRANSPARENT
END:VEVENT
END:VCALENDAR