BEGIN:VCALENDAR
VERSION:2.0
METHOD:PUBLISH
CALSCALE:GREGORIAN
PRODID:-//Refresh Web Development//Helios Calendar//EN
X-FROM-URL:https://www.bayareascience.org/calendar/index.php?com=details&eID=31621
X-WR-RELCALID:BayAreaScience.org Energy, Engineering, Education, and Everything - Livestream 20220214T160000
X-WR-TIMEZONE:America/New_York
X-WR-CALNAME:BayAreaScience.org
BEGIN:VEVENT
URL;VALUE=URI:https://www.bayareascience.org/calendar/index.php?com=detail&eID=31621
DTSTART:20220214T160000
DTEND:20220214T165000
SUMMARY:Energy\, Engineering\, Education\, and Everything - Livestream
DESCRIPTION:Drawing on Dr. Swisher's two decades of teaching clean energy and climate solutions at Stanford and state universities\, we'll explore new models for teaching and learning with a mission to avert...\n______________________________\nThis Event Downloaded From a Helios Calendar Powered Site
LOCATION:Stanford Energy Seminar -  \, \, CA  
CATEGORIES:BayAreaScience.org Events
PRIORITY:0
TRANSP:TRANSPARENT
END:VEVENT
END:VCALENDAR