BEGIN:VCALENDAR
VERSION:2.0
METHOD:PUBLISH
CALSCALE:GREGORIAN
PRODID:-//Refresh Web Development//Helios Calendar//EN
X-FROM-URL:https://www.bayareascience.org/calendar/index.php?com=details&eID=31629
X-WR-RELCALID:BayAreaScience.org  Many-body ground state problem and near-term quantum computer  - Livestream 20220131T143000
X-WR-TIMEZONE:America/New_York
X-WR-CALNAME:BayAreaScience.org
BEGIN:VEVENT
URL;VALUE=URI:https://www.bayareascience.org/calendar/index.php?com=detail&eID=31629
DTSTART:20220131T143000
DTEND:20220131T153000
SUMMARY: Many-body ground state problem and near-term quantum computer  - Livestream
DESCRIPTION:It is well-known that solving the ground state of locally interacting quantum many-body systems can be computationally challenging in two spatial dimensions and higher. There are approaches to...\n______________________________\nThis Event Downloaded From a Helios Calendar Powered Site
LOCATION:UC Berkeley Condensed Matter Physics Seminar -  \, \, CA  
CATEGORIES:BayAreaScience.org Events
PRIORITY:0
TRANSP:TRANSPARENT
END:VEVENT
END:VCALENDAR