BEGIN:VCALENDAR
VERSION:2.0
METHOD:PUBLISH
CALSCALE:GREGORIAN
PRODID:-//Refresh Web Development//Helios Calendar//EN
X-FROM-URL:https://www.bayareascience.org/calendar/index.php?com=details&eID=31630
X-WR-RELCALID:BayAreaScience.org Quantum Nanophotonics Hardware: From Nanofabrication to Quantum Circuit Mapping - Livestream 20220214T143000
X-WR-TIMEZONE:America/New_York
X-WR-CALNAME:BayAreaScience.org
BEGIN:VEVENT
URL;VALUE=URI:https://www.bayareascience.org/calendar/index.php?com=detail&eID=31630
DTSTART:20220214T143000
DTEND:20220214T153000
SUMMARY:Quantum Nanophotonics Hardware: From Nanofabrication to Quantum Circuit Mapping - Livestream
DESCRIPTION:Photonic systems are the leading candidates for deterministic quantum sources\, quantum repeaters\, and other key devices for quantum information processing. Scalability of this technology depends...\n______________________________\nThis Event Downloaded From a Helios Calendar Powered Site
LOCATION:UC Berkeley Condensed Matter Physics Seminar -  \, \, CA  
CATEGORIES:BayAreaScience.org Events
PRIORITY:0
TRANSP:TRANSPARENT
END:VEVENT
END:VCALENDAR