BEGIN:VCALENDAR
VERSION:2.0
METHOD:PUBLISH
CALSCALE:GREGORIAN
PRODID:-//Refresh Web Development//Helios Calendar//EN
X-FROM-URL:https://www.bayareascience.org/calendar/index.php?com=details&eID=31631
X-WR-RELCALID:BayAreaScience.org Mechanically Imaging the Chemical Bond - Livestream 20220228T143000
X-WR-TIMEZONE:America/New_York
X-WR-CALNAME:BayAreaScience.org
BEGIN:VEVENT
URL;VALUE=URI:https://www.bayareascience.org/calendar/index.php?com=detail&eID=31631
DTSTART:20220228T143000
DTEND:20220228T153000
SUMMARY:Mechanically Imaging the Chemical Bond - Livestream
DESCRIPTION:About a half century ago\, Richard Feynman noted that characterizing the microscopic structure of materials would be a lot easier if one could just look and see where the atoms were.Â  In some...\n______________________________\nThis Event Downloaded From a Helios Calendar Powered Site
LOCATION:UC Berkeley Condensed Matter Physics Seminar -  \, \, CA  
CATEGORIES:BayAreaScience.org Events
PRIORITY:0
TRANSP:TRANSPARENT
END:VEVENT
END:VCALENDAR