BEGIN:VCALENDAR
VERSION:2.0
METHOD:PUBLISH
CALSCALE:GREGORIAN
PRODID:-//Refresh Web Development//Helios Calendar//EN
X-FROM-URL:https://www.bayareascience.org/calendar/index.php?com=details&eID=31635
X-WR-RELCALID:BayAreaScience.org A tale of two intercalated TMDs - Livestream 20220404T143000
X-WR-TIMEZONE:America/New_York
X-WR-CALNAME:BayAreaScience.org
BEGIN:VEVENT
URL;VALUE=URI:https://www.bayareascience.org/calendar/index.php?com=detail&eID=31635
DTSTART:20220404T143000
DTEND:20220404T153000
SUMMARY:A tale of two intercalated TMDs - Livestream
DESCRIPTION:Antiferromagnetic spintronics holds the potential to enable faster computing with lower energy requirements\, although two major hurdles are the difficulty of manipulating and reading out details...\n______________________________\nThis Event Downloaded From a Helios Calendar Powered Site
LOCATION:UC Berkeley Condensed Matter Physics Seminar -  \, \, CA  
CATEGORIES:BayAreaScience.org Events
PRIORITY:0
TRANSP:TRANSPARENT
END:VEVENT
END:VCALENDAR