BEGIN:VCALENDAR
VERSION:2.0
METHOD:PUBLISH
CALSCALE:GREGORIAN
PRODID:-//Refresh Web Development//Helios Calendar//EN
X-FROM-URL:https://www.bayareascience.org/calendar/index.php?com=details&eID=31636
X-WR-RELCALID:BayAreaScience.org Kitaev materials and time-dependent Majorana mean-field theory - Livestream 20220418T143000
X-WR-TIMEZONE:America/New_York
X-WR-CALNAME:BayAreaScience.org
BEGIN:VEVENT
URL;VALUE=URI:https://www.bayareascience.org/calendar/index.php?com=detail&eID=31636
DTSTART:20220418T143000
DTEND:20220418T153000
SUMMARY:Kitaev materials and time-dependent Majorana mean-field theory - Livestream
DESCRIPTION:As a rare example of an exactly solvable 2D quantum spin system\, the Kitaev model has generated considerable theoretical interest as a playground for anyonic\, neither fermionic nor bosonic\, physics....\n______________________________\nThis Event Downloaded From a Helios Calendar Powered Site
LOCATION:Physics North - UC Berkeley Room 3\, Berkeley\, CA  94720
CATEGORIES:BayAreaScience.org Events
PRIORITY:0
TRANSP:TRANSPARENT
END:VEVENT
END:VCALENDAR