BEGIN:VCALENDAR
VERSION:2.0
METHOD:PUBLISH
CALSCALE:GREGORIAN
PRODID:-//Refresh Web Development//Helios Calendar//EN
X-FROM-URL:https://www.bayareascience.org/calendar/index.php?com=details&eID=31639
X-WR-RELCALID:BayAreaScience.org Science Saturdays - Water Wild 20220827T100000
X-WR-TIMEZONE:America/New_York
X-WR-CALNAME:BayAreaScience.org
BEGIN:VEVENT
URL;VALUE=URI:https://www.bayareascience.org/calendar/index.php?com=detail&eID=31639
DTSTART:20220827T100000
DTEND:20220827T150000
SUMMARY:Science Saturdays - Water Wild
DESCRIPTION:Dive in for a refreshing look at rivers\, creeks\, and streams. We'll focus on freshwater wildlife\, watershed science\, and the Museum's role in studying the health of these important places.\n______________________________\nThis Event Downloaded From a Helios Calendar Powered Site
LOCATION:Pacific Grove Museum of Natural History -  \, \, CA  
CATEGORIES:BayAreaScience.org Events
PRIORITY:0
TRANSP:TRANSPARENT
END:VEVENT
END:VCALENDAR