BEGIN:VCALENDAR
VERSION:2.0
METHOD:PUBLISH
CALSCALE:GREGORIAN
PRODID:-//Refresh Web Development//Helios Calendar//EN
X-FROM-URL:https://www.bayareascience.org/calendar/index.php?com=details&eID=31640
X-WR-RELCALID:BayAreaScience.org December Science on Tap: Deep Sea Mining 20211215T190000
X-WR-TIMEZONE:America/New_York
X-WR-CALNAME:BayAreaScience.org
BEGIN:VEVENT
URL;VALUE=URI:https://www.bayareascience.org/calendar/index.php?com=detail&eID=31640
DTSTART:20211215T190000
DTEND:20211215T190000
SUMMARY:December Science on Tap: Deep Sea Mining
DESCRIPTION:Astrid Leitner\, a researcher from the Monterey Bay Aquarium Research Institute\, will inform us of the future emerging industry of mining in the deep ocean. Demands for materials to build electronics...\n______________________________\nThis Event Downloaded From a Helios Calendar Powered Site
LOCATION:Museum of Art and History - 705 Front St Back Patio\, Santa Cruz\, CA  95060
CATEGORIES:BayAreaScience.org Events
PRIORITY:0
TRANSP:TRANSPARENT
END:VEVENT
END:VCALENDAR