BEGIN:VCALENDAR
VERSION:2.0
METHOD:PUBLISH
CALSCALE:GREGORIAN
PRODID:-//Refresh Web Development//Helios Calendar//EN
X-FROM-URL:https://www.bayareascience.org/calendar/index.php?com=details&eID=31641
X-WR-RELCALID:BayAreaScience.org WeightWatcher, an open-source diagnostic tool for analyzing Deep Neural Nets - Livestream 20220228T190000
X-WR-TIMEZONE:America/New_York
X-WR-CALNAME:BayAreaScience.org
BEGIN:VEVENT
URL;VALUE=URI:https://www.bayareascience.org/calendar/index.php?com=detail&eID=31641
DTSTART:20220228T190000
DTEND:20220228T203000
SUMMARY:WeightWatcher\, an open-source diagnostic tool for analyzing Deep Neural Nets - Livestream
DESCRIPTION:WeightWatcher...\n______________________________\nThis Event Downloaded From a Helios Calendar Powered Site
LOCATION:SF Bay Association of Computing Machinery -  \, \, CA  
CATEGORIES:BayAreaScience.org Events
PRIORITY:0
TRANSP:TRANSPARENT
END:VEVENT
END:VCALENDAR