BEGIN:VCALENDAR
VERSION:2.0
METHOD:PUBLISH
CALSCALE:GREGORIAN
PRODID:-//Refresh Web Development//Helios Calendar//EN
X-FROM-URL:https://www.bayareascience.org/calendar/index.php?com=details&eID=31643
X-WR-RELCALID:BayAreaScience.org Fascinating Mushroom Spores: Rules & Exceptions, Unknowns Galore - Livestream 20211215T193000
X-WR-TIMEZONE:America/New_York
X-WR-CALNAME:BayAreaScience.org
BEGIN:VEVENT
URL;VALUE=URI:https://www.bayareascience.org/calendar/index.php?com=detail&eID=31643
DTSTART:20211215T193000
DTEND:20211215T193000
SUMMARY:Fascinating Mushroom Spores: Rules & Exceptions\, Unknowns Galore - Livestream
DESCRIPTION:In this talk weâ€™ll explore the world of mushroom spores - where they are formed\, how they get into the environment and where they want to end up\, whether...\n______________________________\nThis Event Downloaded From a Helios Calendar Powered Site
LOCATION:Humboldt Bay Mycological Society -  \, \, CA  
CATEGORIES:BayAreaScience.org Events
PRIORITY:0
TRANSP:TRANSPARENT
END:VEVENT
END:VCALENDAR