BEGIN:VCALENDAR
VERSION:2.0
METHOD:PUBLISH
CALSCALE:GREGORIAN
PRODID:-//Refresh Web Development//Helios Calendar//EN
X-FROM-URL:https://www.bayareascience.org/calendar/index.php?com=details&eID=31660
X-WR-RELCALID:BayAreaScience.org  The Youth Mental Health Crisis: What's Next? - Livestream 20220112T120000
X-WR-TIMEZONE:America/New_York
X-WR-CALNAME:BayAreaScience.org
BEGIN:VEVENT
URL;VALUE=URI:https://www.bayareascience.org/calendar/index.php?com=detail&eID=31660
DTSTART:20220112T120000
DTEND:20220112T120000
SUMMARY: The Youth Mental Health Crisis: What's Next? - Livestream
DESCRIPTION:According to a very recent report from the U.S. Surgeon General\, "the challenges todayâ€™s generation of young people face are unprecedented and uniquely hard to navigate. And the effect these...\n______________________________\nThis Event Downloaded From a Helios Calendar Powered Site
LOCATION:Commonwealth Club - Online Event -  \, \, CA  
CATEGORIES:BayAreaScience.org Events
PRIORITY:0
TRANSP:TRANSPARENT
END:VEVENT
END:VCALENDAR