BEGIN:VCALENDAR
VERSION:2.0
METHOD:PUBLISH
CALSCALE:GREGORIAN
PRODID:-//Refresh Web Development//Helios Calendar//EN
X-FROM-URL:https://www.bayareascience.org/calendar/index.php?com=details&eID=31663
X-WR-RELCALID:BayAreaScience.org Wonderfest: Climate & Social Justice: Q&A with Prof. Dan Kammen - Livestream 20220119T190000
X-WR-TIMEZONE:America/New_York
X-WR-CALNAME:BayAreaScience.org
BEGIN:VEVENT
URL;VALUE=URI:https://www.bayareascience.org/calendar/index.php?com=detail&eID=31663
DTSTART:20220119T190000
DTEND:20220119T200000
SUMMARY:Wonderfest: Climate & Social Justice: Q&A with Prof. Dan Kammen - Livestream
DESCRIPTION:Climate change and social justice...\n______________________________\nThis Event Downloaded From a Helios Calendar Powered Site
LOCATION:Wonderfest -  \, \, CA  
CATEGORIES:BayAreaScience.org Events
PRIORITY:0
TRANSP:TRANSPARENT
END:VEVENT
END:VCALENDAR