BEGIN:VCALENDAR
VERSION:2.0
METHOD:PUBLISH
CALSCALE:GREGORIAN
PRODID:-//Refresh Web Development//Helios Calendar//EN
X-FROM-URL:https://www.bayareascience.org/calendar/index.php?com=details&eID=31664
X-WR-RELCALID:BayAreaScience.org How do we know anything at all about space? - Livestream 20220124T110000
X-WR-TIMEZONE:America/New_York
X-WR-CALNAME:BayAreaScience.org
BEGIN:VEVENT
URL;VALUE=URI:https://www.bayareascience.org/calendar/index.php?com=detail&eID=31664
DTSTART:20220124T110000
DTEND:20220124T120000
SUMMARY:How do we know anything at all about space? - Livestream
DESCRIPTION:No one has ever travelled beyond our cosmic back yard\, so all we really have to go off is the tiny drizzles of light that hit our telescope.The Andromeda Galaxy weighs 800 billion times...\n______________________________\nThis Event Downloaded From a Helios Calendar Powered Site
LOCATION:Royal Observatory\, Edinburgh -  \, \, CA  
CATEGORIES:BayAreaScience.org Events
PRIORITY:0
TRANSP:TRANSPARENT
END:VEVENT
END:VCALENDAR