BEGIN:VCALENDAR
VERSION:2.0
METHOD:PUBLISH
CALSCALE:GREGORIAN
PRODID:-//Refresh Web Development//Helios Calendar//EN
X-FROM-URL:https://www.bayareascience.org/calendar/index.php?com=details&eID=31665
X-WR-RELCALID:BayAreaScience.org Investigating Space: From the Earth To Mars: Steps Toward the First Human Journey to the Red Planetâ€¯  20220115T130000
X-WR-TIMEZONE:America/New_York
X-WR-CALNAME:BayAreaScience.org
BEGIN:VEVENT
URL;VALUE=URI:https://www.bayareascience.org/calendar/index.php?com=detail&eID=31665
DTSTART:20220115T130000
DTEND:20220115T150000
SUMMARY:Investigating Space: From the Earth To Mars: Steps Toward the First Human Journey to the Red Planetâ€¯ 
DESCRIPTION:The first human mission to Mars will be humanityâ€™s greatest adventure in space explorationâ€¯thisâ€¯century. As with all expeditions\, its success depends...\n______________________________\nThis Event Downloaded From a Helios Calendar Powered Site
LOCATION:Chabot Space and Science Center - 10000 Skyline Blvd \, Oakland\, CA USA 94619
CATEGORIES:BayAreaScience.org Events
PRIORITY:0
TRANSP:TRANSPARENT
END:VEVENT
END:VCALENDAR