BEGIN:VCALENDAR
VERSION:2.0
METHOD:PUBLISH
CALSCALE:GREGORIAN
PRODID:-//Refresh Web Development//Helios Calendar//EN
X-FROM-URL:https://www.bayareascience.org/calendar/index.php?com=details&eID=31670
X-WR-RELCALID:BayAreaScience.org Another Bite at the Apple: First Apple-1 Computer to Be Brought Back to Life 20220121T100000
X-WR-TIMEZONE:America/New_York
X-WR-CALNAME:BayAreaScience.org
BEGIN:VEVENT
URL;VALUE=URI:https://www.bayareascience.org/calendar/index.php?com=detail&eID=31670
DTSTART:20220121T100000
DTEND:20220121T160000
SUMMARY:Another Bite at the Apple: First Apple-1 Computer to Be Brought Back to Life
DESCRIPTION:What happened to the very first computer Apple produced? Inventor Steve Wozniak presented the Apple-1 - Serial Number One - to educator Liza Loop. Itâ€™s one of the rarest and most important...\n______________________________\nThis Event Downloaded From a Helios Calendar Powered Site
LOCATION:Computer History Museum -  \, \, CA  
CATEGORIES:BayAreaScience.org Events
PRIORITY:0
TRANSP:TRANSPARENT
END:VEVENT
END:VCALENDAR