BEGIN:VCALENDAR
VERSION:2.0
METHOD:PUBLISH
CALSCALE:GREGORIAN
PRODID:-//Refresh Web Development//Helios Calendar//EN
X-FROM-URL:https://www.bayareascience.org/calendar/index.php?com=details&eID=31671
X-WR-RELCALID:BayAreaScience.org  So You Want to Decarbonize a Building? - Livestream 20220224T123000
X-WR-TIMEZONE:America/New_York
X-WR-CALNAME:BayAreaScience.org
BEGIN:VEVENT
URL;VALUE=URI:https://www.bayareascience.org/calendar/index.php?com=detail&eID=31671
DTSTART:20220224T123000
DTEND:20220224T133000
SUMMARY: So You Want to Decarbonize a Building? - Livestream
DESCRIPTION:In the United States\, approximately 35% of the nationâ€™s 2019 carbon footprint was a result of energy use in buildings (and almost 50% when including embodied carbon). This number is even...\n______________________________\nThis Event Downloaded From a Helios Calendar Powered Site
LOCATION:SF Planning + Urban Research Assoc. (SPUR) -  \, \, CA  
CATEGORIES:BayAreaScience.org Events
PRIORITY:0
TRANSP:TRANSPARENT
END:VEVENT
END:VCALENDAR