BEGIN:VCALENDAR
VERSION:2.0
METHOD:PUBLISH
CALSCALE:GREGORIAN
PRODID:-//Refresh Web Development//Helios Calendar//EN
X-FROM-URL:https://www.bayareascience.org/calendar/index.php?com=details&eID=31672
X-WR-RELCALID:BayAreaScience.org Drawing Birds with John Muir Laws & SFBBO - Livestream 20220119T180000
X-WR-TIMEZONE:America/New_York
X-WR-CALNAME:BayAreaScience.org
BEGIN:VEVENT
URL;VALUE=URI:https://www.bayareascience.org/calendar/index.php?com=detail&eID=31672
DTSTART:20220119T180000
DTEND:20220119T193000
SUMMARY:Drawing Birds with John Muir Laws & SFBBO - Livestream
DESCRIPTION:Learn to draw birds with with the San Francisco Bay Bird Observatory and acclaimed artist\, author\, educator\, and scientist John Muir Laws! In celebration of SFBBO's 40th anniversary\, we're learning...\n______________________________\nThis Event Downloaded From a Helios Calendar Powered Site
LOCATION:San Francisco Bay Bird Observatory -  \, \, CA  
CATEGORIES:BayAreaScience.org Events
PRIORITY:0
TRANSP:TRANSPARENT
END:VEVENT
END:VCALENDAR