BEGIN:VCALENDAR
VERSION:2.0
METHOD:PUBLISH
CALSCALE:GREGORIAN
PRODID:-//Refresh Web Development//Helios Calendar//EN
X-FROM-URL:https://www.bayareascience.org/calendar/index.php?com=details&eID=31673
X-WR-RELCALID:BayAreaScience.org What Seals Can Teach Us About Risk and Reward in the Open Ocean 20220119T173000
X-WR-TIMEZONE:America/New_York
X-WR-CALNAME:BayAreaScience.org
BEGIN:VEVENT
URL;VALUE=URI:https://www.bayareascience.org/calendar/index.php?com=detail&eID=31673
DTSTART:20220119T173000
DTEND:20220119T173000
SUMMARY:What Seals Can Teach Us About Risk and Reward in the Open Ocean
DESCRIPTION:Marine mammals undertake some of the most extraordinary migrations on the planet to eat and avoid being eaten. They make behavioral decisions based on the ecology of their prey and predators\, all...\n______________________________\nThis Event Downloaded From a Helios Calendar Powered Site
LOCATION:UC Santa Cruz Silicon Valley Campus - 3175 Bowers Ave \, Santa Clara\, CA  95054
CATEGORIES:BayAreaScience.org Events
PRIORITY:0
TRANSP:TRANSPARENT
END:VEVENT
END:VCALENDAR