BEGIN:VCALENDAR
VERSION:2.0
METHOD:PUBLISH
CALSCALE:GREGORIAN
PRODID:-//Refresh Web Development//Helios Calendar//EN
X-FROM-URL:https://www.bayareascience.org/calendar/index.php?com=details&eID=31675
X-WR-RELCALID:BayAreaScience.org Celebrating San Francisco Amateur Astronomerâ€™s 70th Anniversary - Livestream 20220119T190000
X-WR-TIMEZONE:America/New_York
X-WR-CALNAME:BayAreaScience.org
BEGIN:VEVENT
URL;VALUE=URI:https://www.bayareascience.org/calendar/index.php?com=detail&eID=31675
DTSTART:20220119T190000
DTEND:20220119T190000
SUMMARY:Celebrating San Francisco Amateur Astronomerâ€™s 70th Anniversary - Livestream
DESCRIPTION:Join us as long-time...\n______________________________\nThis Event Downloaded From a Helios Calendar Powered Site
LOCATION:San Francisco Amateur Astronomers -  \, \, CA  
CATEGORIES:BayAreaScience.org Events
PRIORITY:0
TRANSP:TRANSPARENT
END:VEVENT
END:VCALENDAR