BEGIN:VCALENDAR
VERSION:2.0
METHOD:PUBLISH
CALSCALE:GREGORIAN
PRODID:-//Refresh Web Development//Helios Calendar//EN
X-FROM-URL:https://www.bayareascience.org/calendar/index.php?com=details&eID=31677
X-WR-RELCALID:BayAreaScience.org Climate Conversations: Ocean Carbon Dioxide Removal - Livestream 20220120T120000
X-WR-TIMEZONE:America/New_York
X-WR-CALNAME:BayAreaScience.org
BEGIN:VEVENT
URL;VALUE=URI:https://www.bayareascience.org/calendar/index.php?com=detail&eID=31677
DTSTART:20220120T120000
DTEND:20220120T130000
SUMMARY:Climate Conversations: Ocean Carbon Dioxide Removal - Livestream
DESCRIPTION:To combat climate change\, in addition to reducing emissions\, we will also need to remove greenhouse gases from the atmosphere. Ocean CDR (ocean carbon dioxide removal) is a set of strategies to...\n______________________________\nThis Event Downloaded From a Helios Calendar Powered Site
LOCATION:The Climate Communications Initiative -  \, \, CA  
CATEGORIES:BayAreaScience.org Events
PRIORITY:0
TRANSP:TRANSPARENT
END:VEVENT
END:VCALENDAR