BEGIN:VCALENDAR
VERSION:2.0
METHOD:PUBLISH
CALSCALE:GREGORIAN
PRODID:-//Refresh Web Development//Helios Calendar//EN
X-FROM-URL:https://www.bayareascience.org/calendar/index.php?com=details&eID=31681
X-WR-RELCALID:BayAreaScience.org #NoToPlastic Community Clean-Ups 20220416T094500
X-WR-TIMEZONE:America/New_York
X-WR-CALNAME:BayAreaScience.org
BEGIN:VEVENT
URL;VALUE=URI:https://www.bayareascience.org/calendar/index.php?com=detail&eID=31681
DTSTART:20220416T094500
DTEND:20220416T130000
SUMMARY:#NoToPlastic Community Clean-Ups
DESCRIPTION:Be part of the solution! Join other wildlife enthusiasts to help our local wildlife by cleaning up important habitats in Oakland.Meet at the Lower Entrance to Oakland Zoo (in front of the...\n______________________________\nThis Event Downloaded From a Helios Calendar Powered Site
LOCATION:Oakland Zoo - 9777 Golf Links Rd \, Oakland\, CA USA 94605
CATEGORIES:BayAreaScience.org Events
PRIORITY:0
TRANSP:TRANSPARENT
END:VEVENT
END:VCALENDAR