BEGIN:VCALENDAR
VERSION:2.0
METHOD:PUBLISH
CALSCALE:GREGORIAN
PRODID:-//Refresh Web Development//Helios Calendar//EN
X-FROM-URL:https://www.bayareascience.org/calendar/index.php?com=details&eID=31684
X-WR-RELCALID:BayAreaScience.org Urban Hikes: San Bruno Mountain 20220409T120000
X-WR-TIMEZONE:America/New_York
X-WR-CALNAME:BayAreaScience.org
BEGIN:VEVENT
URL;VALUE=URI:https://www.bayareascience.org/calendar/index.php?com=detail&eID=31684
DTSTART:20220409T120000
DTEND:20220409T120000
SUMMARY:Urban Hikes: San Bruno Mountain
DESCRIPTION:Special hike through Buckeye Canyon and dense oak forests with spectacular views\, led by mountain protector David Schooley! LIMITED ATTENDANCE!RSVP required: \n______________________________\nThis Event Downloaded From a Helios Calendar Powered Site
LOCATION:Shaping San Francisco -  \, \, CA  
CATEGORIES:BayAreaScience.org Events
PRIORITY:0
TRANSP:TRANSPARENT
END:VEVENT
END:VCALENDAR